BEGIN:VCALENDAR
VERSION:2.0
PRODID:-//PKF O&#039;Connor Davies//NONSGML Events//EN
CALSCALE:GREGORIAN
X-ORIGINAL-URL:https://www.pkfod.com/events/
X-WR-CALDESC:PKF O&#039;Connor Davies - Events
BEGIN:VEVENT
UID:20201211T2014Z-1607717693.5579-EO-9422-1@198.46.93.14
STATUS:CONFIRMED
DTSTAMP:20260421T100302Z
CREATED:20201211T183109Z
LAST-MODIFIED:20230417T153753Z
DTSTART;TZID=America/New_York:20210114T083000
DTEND;TZID=America/New_York:20210114T170000
SUMMARY: 43rd Annual Nonprofit Conference Webcast (Accounting and Auditing 
 Track)
DESCRIPTION: Alexander K. Buchholz and Kelsey Cannici will be presenting Au
 dit Risks and Challenges in a Remote Environment Due to COVID at the 43rd A
 nnual Nonprofit Conference Webcast. This conference will provide participan
 ts with the latest Accounting\, Auditing FASB and Single Audit updates as w
 ell as […]
X-ALT-DESC;FMTTYPE=text/html: <p><strong></strong><a href="https://www.pkfo
 d.com/people/alexander-buchholz/">Alexander K. Buchholz</a> and <a href="ht
 tps://www.linkedin.com/in/kelseyhorner">Kelsey Cannici</a> will be presenti
 ng Audit Risks and Challenges in a Remote Environment Due to COVID at the <
 a href="https://cpe.nysscpa.org/product/31071">43rd Annual Nonprofit Confer
 ence Webcast</a>. This conference will provide participants with the latest
  Accounting\, Auditing FASB and Single Audit updates as well as different t
 opics such as common errors in financial statements\, financial leadership 
 and budgeting in times of uncertainty.<strong></p><p>Key Topics</strong></p
 ><ul><li>Accounting and Auditing Update.<strong><br /></strong></li><li>FAS
 B Update.</li><li>Audit Risks/Challenges in a Remote Environment Due to COV
 ID.</li></ul><p><a href="https://cpe.nysscpa.org/product/31071">Click here<
 /a> for further information and the complete agenda.</p><p><em>CPE Credits 
 are being offered by the FAE.</em></p><p> </p>
CATEGORIES:Speaking Engagements
ORGANIZER;CN="Acronin -":MAILTO:acronin@pkfod.com
URL;VALUE=URI:https://www.pkfod.com/events/43rd-annual-nonprofit-conference
 -webcast-accounting-and-auditing-track/
END:VEVENT
BEGIN:VTIMEZONE
TZID:America/New_York
BEGIN:STANDARD
TZOFFSETFROM:-0400
TZOFFSETTO:-0500
DTSTART:20201101T060000
TZNAME:EST
END:STANDARD
END:VTIMEZONE
END:VCALENDAR
