BEGIN:VCALENDAR
VERSION:2.0
PRODID:-//PKF O&#039;Connor Davies//NONSGML Events//EN
CALSCALE:GREGORIAN
X-ORIGINAL-URL:https://www.pkfod.com/events/
X-WR-CALDESC:PKF O&#039;Connor Davies - Events
BEGIN:VEVENT
UID:20231019T0253Z-1697684034.87-EO-16463-1@127.0.0.1
STATUS:CONFIRMED
DTSTAMP:20260421T082233Z
CREATED:20231018T210641Z
LAST-MODIFIED:20231024T145716Z
DTSTART;TZID=America/New_York:20231102T145000
DTEND;TZID=America/New_York:20231102T154000
SUMMARY: How to Get Private Equity (PE) Deals Done in Today’s Market
DESCRIPTION: PKF O’Connor Davies’ Eric Gelb\, CPA and Senior Managing Direc
 tor\, will moderate a panel discussion: How to Get Private Equity (PE) Deal
 s Done in Today’s Market via Zoom on November 2nd from 2:50 PM to 3:40 PM. 
 The session is a part of the Alternative […]
X-ALT-DESC;FMTTYPE=text/html: <p>PKF O’Connor Davies’ <a href="https://www.
 pkfod.com/people/eric-gelb/">Eric Gelb</a>\, CPA and Senior Managing Direct
 or\, will moderate a panel discussion: How to Get Private Equity (PE) Deals
  Done in Today’s Market via Zoom on November 2<sup>nd</sup> from 2:50 PM to
  3:40 PM. The session is a part of the <a href="https://cpe.nysscpa.org/pro
 duct/34693?utm_source=Calendar&utm_medium=Event%20Calendar&utm_campaign=Eve
 nt%20Calendar%20Page">Alternative Investment Fund Conference Webcast</a>. <
 /p><p>Sponsored by the New York State Society of CPAs (NYSSCPAs) - CPAs wil
 l be given CPE: 1 Credit\, Specialized Knowledge.</p><p><strong>Moderator:<
 /strong> Eric Gelb\, CPA\, Senior Managing Director\, PKF O’Connor Davies\,
  LLP</p><p><strong>Panelists:</strong></p><ul><li>Paul Marino\, Attorney sp
 ecializing in M&A and Private Equity\, Sadis & Goldberg LLP</li><li>Jake Fo
 ley\, Private Equity (PE) Investor & Merchant Banker</li></ul><p>Panelists 
 will share insights into private equity and venture capital deal terms in t
 oday’s climate and pitfalls related to conducting due diligence. They will 
 discuss transaction structure\, valuation\, key terms and conditions in tra
 nsactions\, funding holdbacks\, earn-outs and milestone payments and how de
 als have evolved in light of higher market interest rates.</p>
CATEGORIES:Speaking Engagements
ORGANIZER;CN="Acronin -":MAILTO:acronin@pkfod.com
URL;VALUE=URI:https://www.pkfod.com/events/alternative-investment-fund-conf
 erence-webcast-2/
END:VEVENT
BEGIN:VTIMEZONE
TZID:America/New_York
BEGIN:DAYLIGHT
TZOFFSETFROM:-0500
TZOFFSETTO:-0400
DTSTART:20230312T070000
TZNAME:EDT
END:DAYLIGHT
END:VTIMEZONE
END:VCALENDAR
