BEGIN:VCALENDAR
VERSION:2.0
PRODID:-//PKF O&#039;Connor Davies//NONSGML Events//EN
CALSCALE:GREGORIAN
X-ORIGINAL-URL:https://www.pkfod.com/events/
X-WR-CALDESC:PKF O&#039;Connor Davies - Events
BEGIN:VEVENT
UID:20220922T2304Z-1663887866.93-EO-13717-1@127.0.0.1
STATUS:CONFIRMED
DTSTAMP:20260419T105218Z
CREATED:20220922T171725Z
LAST-MODIFIED:20230417T153803Z
DTSTART;TZID=America/New_York:20221011T103000
DTEND;TZID=America/New_York:20221011T150000
SUMMARY: Broward County Condo and HOA Expo
DESCRIPTION: Jonathan Zuckerman and Rachel DiDio with PKF O’Connor Davies’ 
 Real Estate Practice will be exhibiting at the Broward County Condo and HOA
  Expo in Davie\, Florida – Tuesday\, October 11th from 10:30 am – 3:00 pm. 
  Stop by our exhibit booth to learn more about the […]
X-ALT-DESC;FMTTYPE=text/html: <p><a href="https://www.pkfod.com/people/jona
 than-zuckerman/">Jonathan Zuckerman</a> and <a href="https://www.pkfod.com/
 people/rachel-l-didio/">Rachel DiDio</a> with PKF O'Connor Davies' <a href=
 "https://www.pkfod.com/industries/real-estate/">Real Estate Practice</a> wi
 ll be exhibiting at the <a href="https://www.browardcondohoaexpo.com/?AspxA
 utoDetectCookieSupport=1"><strong>Broward County Condo and HOA Expo</strong
 ></a> in Davie\, Florida - Tuesday\, October 11th from 10:30 am - 3:00 pm. 
 </p><p>Stop by our exhibit booth to learn more about the comprehensive acco
 unting\, audit\, tax and business management services to cooperative housin
 g corporations and condominium associations.</p>
CATEGORIES:Exhibits
LOCATION:Signature Grand
GEO:0.000000;0.000000
ORGANIZER;CN="Acronin -":MAILTO:acronin@pkfod.com
URL;VALUE=URI:https://www.pkfod.com/events/broward-county-condo-and-hoa-exp
 o/
END:VEVENT
BEGIN:VTIMEZONE
TZID:America/New_York
BEGIN:DAYLIGHT
TZOFFSETFROM:-0500
TZOFFSETTO:-0400
DTSTART:20220313T070000
TZNAME:EDT
END:DAYLIGHT
END:VTIMEZONE
END:VCALENDAR
