BEGIN:VCALENDAR
VERSION:2.0
PRODID:-//PKF O&#039;Connor Davies//NONSGML Events//EN
CALSCALE:GREGORIAN
X-ORIGINAL-URL:https://www.pkfod.com/events/
X-WR-CALDESC:PKF O&#039;Connor Davies - Events
BEGIN:VEVENT
UID:20240329T1613Z-1711728790.56-EO-17166-1@127.0.0.1
STATUS:CONFIRMED
DTSTAMP:20260422T075030Z
CREATED:20240329T144025Z
LAST-MODIFIED:20240329T144025Z
DTSTART;TZID=America/New_York:20240606T083000
DTEND;TZID=America/New_York:20240606T163500
SUMMARY: Employee Benefits Conference – NYSSCPA Live Webcast
DESCRIPTION: Joseph Farrenkopf will be speaking at the Employee Benefits Co
 nference via a Live Webcast by NYSSCPA on Thursday\, June 6 from 8:30 a.m. 
 – 4:35 p.m. Click here for program overview.
X-ALT-DESC;FMTTYPE=text/html: <p><a href="https://www.pkfod.com/people/jose
 ph-j-farrenkopf/">Joseph Farrenkopf</a> will be speaking at the <a href="ht
 tps://cpe.nysscpa.org/product/34968">Employee Benefits Conference</a> via a
  Live Webcast by <a href="https://www.nysscpa.org/">NYSSCPA</a> on Thursday
 \, June 6 from 8:30 a.m. - 4:35 p.m.</p><p><a href="https://cpe.nysscpa.org
 /product/34968">Click here</a> for program overview.</p>
CATEGORIES:Speaking Engagements
LOCATION:Webinar
GEO:40.712775;-74.005973
ORGANIZER;CN="Acronin -":MAILTO:acronin@pkfod.com
URL;VALUE=URI:https://www.pkfod.com/events/employee-benefits-conference-nys
 scpa-live-webcast/
END:VEVENT
BEGIN:VTIMEZONE
TZID:America/New_York
BEGIN:DAYLIGHT
TZOFFSETFROM:-0500
TZOFFSETTO:-0400
DTSTART:20240310T070000
TZNAME:EDT
END:DAYLIGHT
END:VTIMEZONE
END:VCALENDAR
