BEGIN:VCALENDAR
VERSION:2.0
PRODID:-//PKF O&#039;Connor Davies//NONSGML Events//EN
CALSCALE:GREGORIAN
X-WR-CALNAME:PKF O&#039;Connor Davies - Events
X-ORIGINAL-URL:https://www.pkfod.com/events/
X-WR-CALDESC:PKF O&#039;Connor Davies - Events
BEGIN:VEVENT
UID:20211228T0218Z-1640657902.81-EO-12033-1@127.0.0.1
STATUS:CONFIRMED
DTSTAMP:20260421T081709Z
CREATED:20211227T185202Z
LAST-MODIFIED:20250714T181015Z
DTSTART;TZID=America/New_York:20220130T183000
DTEND;TZID=America/New_York:20220201T103000
SUMMARY: ACEC New York Winter Conference
DESCRIPTION: Join Joseph Ferreira\, Thomas Ruggiero\, Nick Tamvaklis\, Rick
  Strout and Michael Kettell at the ACEC New York Conference in Albany\, New
  York – January 30th through February 1\, 2022. Please stop by our exhibit 
 booth #14 to meet with our professional staff and to learn more […]
X-ALT-DESC;FMTTYPE=text/html: <p>Join <a href="https://www.pkfod.com/people
 /joseph-c-ferreira/">Joseph Ferreira\, </a>Thomas Ruggiero\, <a href="https
 ://www.dgccpa.com/about/team/nicholas-tamvaklis-cpa-cda-mst-nick-375">Nick 
 Tamvaklis</a>\, <a href="https://www.dgccpa.com/about/team/rick-strout-cpa-
 1074">Rick Strout</a> and <a href="https://www.linkedin.com/in/michaelkette
 ll/">Michael Kettell</a> at the <a href="https://acecny.org/page/winter2022
 cfoagenda">ACEC New York Conference</a> in Albany\, New York - January 30th
  through February 1\, 2022. Please stop by our exhibit booth #14 to meet wi
 th our professional staff and to learn more about our Accounting and Assura
 nce\; Tax Planning and Compliance\; and Advisory Services for the architect
 ure\, engineering and construction industry.</p><p><a href="https://www.pkf
 od.com/people/thomas-riggs/">Thomas Riggs</a> will be presenting at the ACE
 C and <a href="https://acecny.org/page/winter2022cfoagenda">CFO/Business Ma
 nagers Forum</a> on Monday\, January 31st - 8:15 a.m. - 9:05 a.m. Tom is an
  engaging and highly regarded tax expert who will discuss the political and
  economic landscape currently impacting the course of tax policy here in th
 e U.S.\, including what businesses and individuals should be doing now in a
 nticipation of potential tax reforms currently being debated in Congress as
  part of the Build Back Better Act.</p>
CATEGORIES:Speaking Engagements
LOCATION:Capital Center
GEO:0.000000;0.000000
ORGANIZER;CN="Acronin -":MAILTO:acronin@pkfod.com
URL;VALUE=URI:https://www.pkfod.com/events/acec-new-york-winter-conference/
END:VEVENT
BEGIN:VTIMEZONE
TZID:America/New_York
BEGIN:STANDARD
TZOFFSETFROM:-0400
TZOFFSETTO:-0500
DTSTART:20211107T060000
TZNAME:EST
END:STANDARD
END:VTIMEZONE
END:VCALENDAR
