BEGIN:VCALENDAR
VERSION:2.0
PRODID:-//PKF O&#039;Connor Davies//NONSGML Events//EN
CALSCALE:GREGORIAN
X-WR-CALNAME:PKF O&#039;Connor Davies - Events
X-ORIGINAL-URL:https://www.pkfod.com/events/
X-WR-CALDESC:PKF O&#039;Connor Davies - Events
BEGIN:VEVENT
UID:20241008T2031Z-1728419471.86-EO-18138-1@127.0.0.1
STATUS:CONFIRMED
DTSTAMP:20260423T063237Z
CREATED:20241008T180619Z
LAST-MODIFIED:20241008T180619Z
DTSTART;TZID=America/New_York:20241203T081000
DTEND;TZID=America/New_York:20241203T173500
SUMMARY: Tax Planning for Business Entities Conference
DESCRIPTION: Steven Eller\, CPA\, JD\, Partner\, will be speaking at the NY
 SSCPA’s Tax Planning for Business Entities Conference on Tuesday\, December
  3rd from 11:25 a.m. to 12:15 p.m. at the FAE Learning Center in New York C
 ity. Steven will present on “Important Updates Regarding the NYS Pass […]
X-ALT-DESC;FMTTYPE=text/html: <p><a href="https://www.pkfod.com/people/stev
 eneller/">Steven Eller\, CPA</a>\, JD\, Partner\, will be speaking at the <
 a href="https://cpe.nysscpa.org/product/35409?utm_source=Calendar&utm_mediu
 m=Event%20Calendar&utm_campaign=Event%20Calendar%20Page">NYSSCPA's Tax Plan
 ning for Business Entities Conference</a> on Tuesday\, December 3rd from 11
 :25 a.m. to 12:15 p.m. at the FAE Learning Center in New York City.</p><p>S
 teven will present on "Important Updates Regarding the NYS Pass Through Ent
 ity Tax (PTET) & The NJ Business Alternative Income Tax (BAIT)." <span>Alth
 ough the NYS PTET and the NJ BAIT have already been around for several year
 s\, these topics continue to evolve as practitioners and their clients beco
 me more familiar with the reporting process. NYC has recently added its own
  version of the PTET\, which will be discussed in detail.</span></p><p><str
 ong>Who Should Attend:<br /></strong>Anyone who wants to be informed of\, o
 r learn more about\, the latest proposed and enacted tax legislation and de
 velopments affecting various types of business entities\, from Partnerships
  and LLC’s to S corporations and Sole proprietorships.</p><p>See agenda <a 
 href="https://cpe.nysscpa.org/product/35409?utm_source=Calendar&utm_medium=
 Event%20Calendar&utm_campaign=Event%20Calendar%20Page">here</a>.</p><p><em>
 Note: This conference is eligible for 9 CPE Credits issued by the Foundatio
 n for Accounting Education (FAE).</em></p>
CATEGORIES:Speaking Engagements
LOCATION:FAE Learning Center
GEO:40.707619;-74.010595
ORGANIZER;CN="Emily Nando":MAILTO:enando@pkfod.com
URL;VALUE=URI:https://www.pkfod.com/events/tax-planning-for-business-entiti
 es-conference/
END:VEVENT
BEGIN:VEVENT
UID:20251113T2230Z-1763073046.68-EO-20426-1@127.0.0.1
STATUS:CONFIRMED
DTSTAMP:20260423T063237Z
CREATED:20251113T210517Z
LAST-MODIFIED:20251113T221341Z
DTSTART;TZID=America/New_York:20251119T103000
DTEND;TZID=America/New_York:20251119T114500
SUMMARY: New York and Tri-State Taxation Conference
DESCRIPTION: Steven Eller will be presenting at the Foundation for Accounti
 ng Education of NYCPA’s New York and Tri-State Taxation Conference on Wedne
 sday\, November 19th at the FAE Learning Center in New York\, NY.  Join Ste
 ve’s session on “Conformity/OBBA” from 10:30 a.m. – 11:45 a.m. for an in-de
 pth […]
X-ALT-DESC;FMTTYPE=text/html: <p><a href="https://www.pkfod.com/people/stev
 eneller/">Steven Eller</a> will be presenting at the Foundation for Account
 ing Education of NYCPA's <a href="https://cpe.nysscpa.org/product/35881?utm
 _source=Calendar&utm_medium=Event%20Calendar&utm_campaign=Event%20Calendar%
 20Page">New York and Tri-State Taxation Conference</a> on Wednesday\, Novem
 ber 19th at the FAE Learning Center in New York\, NY. </p><p>Join Steve's s
 ession on "Conformity/OBBA" from 10:30 a.m. - 11:45 a.m. for an in-depth di
 scussion of the state's conformity of the OBBA. Full conference agenda <a h
 ref="https://cpe.nysscpa.org/product/35881?utm_source=Calendar&utm_medium=E
 vent%20Calendar&utm_campaign=Event%20Calendar%20Page">here</a>. </p>
CATEGORIES:Speaking Engagements
LOCATION:FAE Learning Center
GEO:40.707619;-74.010595
ORGANIZER;CN="Alana Zayas":MAILTO:azayas@pkfod.com
URL;VALUE=URI:https://www.pkfod.com/events/20426/
END:VEVENT
BEGIN:VTIMEZONE
TZID:America/New_York
BEGIN:STANDARD
TZOFFSETFROM:-0400
TZOFFSETTO:-0500
DTSTART:20241103T060000
TZNAME:EST
END:STANDARD
BEGIN:DAYLIGHT
TZOFFSETFROM:-0500
TZOFFSETTO:-0400
DTSTART:20250309T070000
TZNAME:EDT
END:DAYLIGHT
BEGIN:STANDARD
TZOFFSETFROM:-0400
TZOFFSETTO:-0500
DTSTART:20251102T060000
TZNAME:EST
END:STANDARD
END:VTIMEZONE
END:VCALENDAR
