BEGIN:VCALENDAR
VERSION:2.0
PRODID:-//PKF O&#039;Connor Davies//NONSGML Events//EN
CALSCALE:GREGORIAN
X-WR-CALNAME:PKF O&#039;Connor Davies - Events
X-ORIGINAL-URL:https://www.pkfod.com/events/
X-WR-CALDESC:PKF O&#039;Connor Davies - Events
BEGIN:VEVENT
UID:20240926T1426Z-1727360797.11-EO-18097-1@127.0.0.1
STATUS:CONFIRMED
DTSTAMP:20260419T092002Z
CREATED:20240926T141958Z
LAST-MODIFIED:20240926T151210Z
DTSTART;TZID=America/New_York:20241023T173000
DTEND;TZID=America/New_York:20241023T193000
SUMMARY: Empowerment Through Ownership: Exploring Employee Ownership Trends
DESCRIPTION: John Vitucci will be speaking at the Exit Planning Institute N
 ew Jersey Chapter’s “Empowerment Through Ownership: Exploring Employee Owne
 rship Trends” on Wednesday\, October 23rd. In this meeting\, through expert
  analysis and real-world case studies\, attendees will gain a nuanced under
 standing of the benefits and challenges associated […]
X-ALT-DESC;FMTTYPE=text/html: <p><a href="https://www.pkfod.com/people/john
 -vitucci/">John Vitucci</a> will be speaking at the <a href="https://exit-p
 lanning-institute.org/chapter/epi-new-jersey-chapter">Exit Planning Institu
 te New Jersey Chapter's</a> "<a href="https://exit-planning-institute.org/e
 vents-detail/epi-new-jersey-october-2024-chapter-event?utm_campaign=Chapter
 s&utm_medium=email&_hsenc=p2ANqtz--gSuaipvTv0HUuX9vHvmQJyf9D0afM54-d4Z4h8mV
 VBUw9UIMSbHTsBbXd6_CLJ7WiNCqYHcf_-QUZXdbNcMy3WdqCAg&_hsmi=318763078&utm_con
 tent=318763078&utm_source=hs_automation">Empowerment Through Ownership: Exp
 loring Employee Ownership Trends</a>" on Wednesday\, October 23rd. In this 
 meeting\, t<span>hrough expert analysis and real-world case studies\, atten
 dees will gain a nuanced understanding of the benefits and challenges assoc
 iated with ESOPs.</span></p><p>Key Topics:</p><ul><li>Learn about recent tr
 ends and developments with ESOPs</li><li>Identify the benefits and challeng
 es associated with employee ownership</li><li>Learn the current landscape o
 f employee ownership models</li></ul><p> </p>
CATEGORIES:Speaking Engagements
LOCATION:Shackamaxon Country Club
GEO:0.000000;0.000000
ORGANIZER;CN="Alana Zayas":MAILTO:azayas@pkfod.com
URL;VALUE=URI:https://www.pkfod.com/events/empowerment-through-ownership-ex
 ploring-employee-ownership-trends/
END:VEVENT
BEGIN:VEVENT
UID:20241026T1406Z-1729951594.11-EO-18228-1@127.0.0.1
STATUS:CONFIRMED
DTSTAMP:20260419T092002Z
CREATED:20241025T211126Z
LAST-MODIFIED:20241025T211126Z
DTSTART;TZID=America/New_York:20241107T173000
DTEND;TZID=America/New_York:20241107T193000
SUMMARY: Planning for the Future: Retirement & Tax Planning Post-Election
DESCRIPTION: Join John Apisa and John N. Vitucci for an insightful discussi
 on on “Planning for the Future: Retirement & Tax Planning Post-Election” by
  the Exit Planning Institute on November 7th from 5:30 p.m. – 7:30 p.m. at 
 the Shackamaxon Golf Club in Scotch Plains\, NJ. They […]
X-ALT-DESC;FMTTYPE=text/html: <p>Join <a href="https://www.pkfod.com/people
 /john-apisa/">John Apisa</a> and <a href="https://www.pkfod.com/people/john
 -vitucci/">John N. Vitucci</a> for an insightful discussion on "<a href="ht
 tps://exit-planning-institute.org/events-detail/epi-new-jersey-november-202
 4-chapter-event">Planning for the Future: Retirement & Tax Planning Post-El
 ection</a>" by the <a href="https://exit-planning-institute.org/">Exit Plan
 ning Institute</a> on November 7th from 5:30 p.m. - 7:30 p.m. at the Shacka
 maxon Golf Club in Scotch Plains\, NJ. They will explore the potential impa
 ct of the election results on retirement saving\, tax laws\, and financial 
 planning strategies. This event will allow you to gain valuable insights an
 d practical advise to help you navigate the changing landscape and make inf
 ormed decisions for your financial future.</p>
CATEGORIES:Speaking Engagements
LOCATION:Shackamaxon Country Club
GEO:0.000000;0.000000
ORGANIZER;CN="Harleen Ghuman":MAILTO:hghuman@pkfod.com
URL;VALUE=URI:https://www.pkfod.com/events/planning-for-the-future-retireme
 nt-tax-planning-post-election/
END:VEVENT
BEGIN:VEVENT
UID:20240926T1426Z-1727360797.11-EO-18097-1@127.0.0.1
STATUS:CONFIRMED
DTSTAMP:20260419T092002Z
CREATED:20250716T133313Z
LAST-MODIFIED:20250827T173516Z
DTSTART;TZID=America/New_York:20251007T173000
DTEND;TZID=America/New_York:20251007T193000
SUMMARY: Back to the Future: Economic & Tax Transformation
DESCRIPTION: John Vitucci will be speaking at the Exit Planning Institute N
 ew Jersey Chapter’s “Back to the Future: Economic & Tax Transformation” on 
 Tuesday\, October 7th. In this meeting\, attendees will learn how leading t
 ax practices drive transformation through innovation\, retool their teams f
 or a changing […]
X-ALT-DESC;FMTTYPE=text/html: <p><a href="https://www.pkfod.com/people/john
 -vitucci/">John Vitucci</a> will be speaking at the <a href="https://exit-p
 lanning-institute.org/chapter/epi-new-jersey-chapter">Exit Planning Institu
 te New Jersey Chapter's</a> "<a href="https://exit-planning-institute.org/e
 vents-detail/epi-new-jersey-october-2025-chapter-event">Back to the Future:
  Economic & Tax Transformation</a>" on Tuesday\, October 7th. In this meeti
 ng\, attendees will learn how leading tax practices drive transformation th
 rough innovation\, retool their teams for a changing market and apply strat
 egic tax planning for 2025 and 2026.</p><p>Key Topics:</p><ul><li>Insights 
 from Big Four transformations during the 1990s–2000s to navigate market dis
 ruption.</li><li data-start="156" data-end="285">Strategies to help financi
 al advisors and tax professionals adapt to today’s fast-changing economic a
 nd regulatory climate.</li><li data-start="288" data-end="404">Proactive ye
 ar-end tax planning approaches to address upcoming 2025–2026 law changes an
 d deliver client value.</li><li data-start="407" data-end="516">Proven inno
 vation frameworks to modernize and grow professional service firms in a com
 petitive landscape.</li></ul>
CATEGORIES:Speaking Engagements
LOCATION:Shackamaxon Country Club
GEO:0.000000;0.000000
ORGANIZER;CN="Alana Zayas":MAILTO:azayas@pkfod.com
URL;VALUE=URI:https://www.pkfod.com/events/back-to-the-future-economic-tax-
 transformation/
END:VEVENT
BEGIN:VTIMEZONE
TZID:America/New_York
BEGIN:DAYLIGHT
TZOFFSETFROM:-0500
TZOFFSETTO:-0400
DTSTART:20240310T070000
TZNAME:EDT
END:DAYLIGHT
BEGIN:STANDARD
TZOFFSETFROM:-0400
TZOFFSETTO:-0500
DTSTART:20241103T060000
TZNAME:EST
END:STANDARD
BEGIN:DAYLIGHT
TZOFFSETFROM:-0500
TZOFFSETTO:-0400
DTSTART:20250309T070000
TZNAME:EDT
END:DAYLIGHT
END:VTIMEZONE
END:VCALENDAR
