BEGIN:VCALENDAR
VERSION:2.0
PRODID:-//PKF O&#039;Connor Davies//NONSGML Events//EN
CALSCALE:GREGORIAN
X-WR-CALNAME:PKF O&#039;Connor Davies - Events
X-ORIGINAL-URL:https://www.pkfod.com/events/
X-WR-CALDESC:PKF O&#039;Connor Davies - Events
BEGIN:VEVENT
UID:20220620T2327Z-1655767655.21-EO-13214-1@127.0.0.1
STATUS:CONFIRMED
DTSTAMP:20260420T065147Z
CREATED:20220620T142431Z
LAST-MODIFIED:20230417T153841Z
DTSTART;VALUE=DATE:20220622
DTEND;VALUE=DATE:20220625
SUMMARY: NLHA 50th Annual Membership Meeting
DESCRIPTION: Stewart Grubman will be attending the NLHA 50th Annual Members
 hip Meeting by the National Leased Housing Association (NLHA) from Wednesda
 y\, June 22 – Friday\, June 24 at Washington Marriott Georgetown in Washing
 ton\, DC. This meeting includes speaking engagements from many clients and 
 HUD officials.
X-ALT-DESC;FMTTYPE=text/html: <p><a href="https://www.pkfod.com/people/stew
 art-grubman/">Stewart Grubman</a> will be attending the <a href="https://hu
 dnlha.com/seminars-and-meetings/calender-of-events/">NLHA 50th Annual Membe
 rship Meeting</a> by the <a href="https://hudnlha.com/">National Leased Hou
 sing Association (NLHA)</a> from Wednesday\, June 22 - Friday\, June 24 at 
 Washington Marriott Georgetown in Washington\, DC. <span>This meeting inclu
 des speaking engagements from many clients and HUD officials.</span></p>
CATEGORIES:Speaking Engagements
LOCATION:Washington Marriott Georgetown
GEO:0.000000;0.000000
ORGANIZER;CN="Acronin -":MAILTO:acronin@pkfod.com
URL;VALUE=URI:https://www.pkfod.com/events/nlha-50th-annual-membership-meet
 ing/
END:VEVENT
BEGIN:VEVENT
UID:20250612T1533Z-1749742383.21-EO-19388-1@127.0.0.1
STATUS:CONFIRMED
DTSTAMP:20260420T065147Z
CREATED:20250612T151145Z
LAST-MODIFIED:20250612T151145Z
DTSTART;TZID=America/New_York:20250619T131500
DTEND;TZID=America/New_York:20250619T143000
SUMMARY: NLHA 2025 Annual Membership Meeting
DESCRIPTION: Join Stewart Grubman and Jennifer Galasso at the National Leas
 ed Housing Association‘s (NLHA) 2025 Annual Meeting on Thursday\, June 19th
  at the Washington Marriott Georgetown. From 1:15 p.m. – 2:30 p.m.\, Stewar
 t will moderate and Jennifer will present during Session I – How Well are C
 urrent […]
X-ALT-DESC;FMTTYPE=text/html: <p>Join <a href="https://www.pkfod.com/people
 /stewart-grubman/">Stewart Grubman</a> and <a href="https://www.pkfod.com/p
 eople/jennifer-galasso/">Jennifer Galasso</a> at the <a href="https://hudnl
 ha.com/">National Leased Housing Association</a>'s (NLHA) <a href="https://
 hudnlha.com/2025-annual-meeting-registration/">2025 Annual Meeting</a> on T
 hursday\, June 19th at the Washington Marriott Georgetown.</p><p>From 1:15 
 p.m. - 2:30 p.m.\, Stewart will moderate and Jennifer will present during S
 ession I - <em>How Well are Current Underwriting Models Working in Today’s 
 Climate? Solutions to Today’s Problems</em>:</p><ul><li>Overview of the und
 erwriting process</li><li>Attributes and Pitfalls with current models</li><
 li>Why is modeling important?</li><li>Syndicator\, Developer and Investor P
 erspectives</li></ul><p>See full agenda <a href="https://hudnlha.com/wp-con
 tent/uploads/documents/2025%20AM%20Agenda%20as%20of%20May%2028.pdf">here</a
 >.</p>
CATEGORIES:Speaking Engagements
LOCATION:Washington Marriott Georgetown
GEO:0.000000;0.000000
ORGANIZER;CN="Emily Nando":MAILTO:enando@pkfod.com
URL;VALUE=URI:https://www.pkfod.com/events/nlha-2025-annual-membership-meet
 ing/
END:VEVENT
BEGIN:VTIMEZONE
TZID:America/New_York
BEGIN:DAYLIGHT
TZOFFSETFROM:-0500
TZOFFSETTO:-0400
DTSTART:20220313T070000
TZNAME:EDT
END:DAYLIGHT
BEGIN:STANDARD
TZOFFSETFROM:-0400
TZOFFSETTO:-0500
DTSTART:20221106T060000
TZNAME:EST
END:STANDARD
BEGIN:DAYLIGHT
TZOFFSETFROM:-0500
TZOFFSETTO:-0400
DTSTART:20230312T070000
TZNAME:EDT
END:DAYLIGHT
BEGIN:STANDARD
TZOFFSETFROM:-0400
TZOFFSETTO:-0500
DTSTART:20231105T060000
TZNAME:EST
END:STANDARD
BEGIN:DAYLIGHT
TZOFFSETFROM:-0500
TZOFFSETTO:-0400
DTSTART:20240310T070000
TZNAME:EDT
END:DAYLIGHT
BEGIN:STANDARD
TZOFFSETFROM:-0400
TZOFFSETTO:-0500
DTSTART:20241103T060000
TZNAME:EST
END:STANDARD
BEGIN:DAYLIGHT
TZOFFSETFROM:-0500
TZOFFSETTO:-0400
DTSTART:20250309T070000
TZNAME:EDT
END:DAYLIGHT
END:VTIMEZONE
END:VCALENDAR
