BEGIN:VCALENDAR
VERSION:2.0
PRODID:-//PKF O&#039;Connor Davies//NONSGML Events//EN
CALSCALE:GREGORIAN
X-ORIGINAL-URL:https://www.pkfod.com/events/
X-WR-CALDESC:PKF O&#039;Connor Davies - Events
BEGIN:VEVENT
UID:20211025T2316Z-1635203817.38-EO-11777-1@127.0.0.1
STATUS:CONFIRMED
DTSTAMP:20260424T044258Z
CREATED:20211025T180133Z
LAST-MODIFIED:20240813T134259Z
DTSTART;TZID=America/New_York:20211026T090000
DTEND;TZID=America/New_York:20211026T120000
SUMMARY: NYGFOA Advanced Accounting Forum Fall 2021 – Day 1
DESCRIPTION: Scott Oling\, Brian Petersen\, Jeffery Shaver – Partners and M
 ichele Yen – Senior Manager will be presenting at the NYGFOA Advanced Accou
 nting Forum. This forum builds and expands on the accounting concepts cover
 ed in Foundations Accounting and Financial Reporting and will focus on: Ide
 ntifying the appropriate fund […]
X-ALT-DESC;FMTTYPE=text/html: <p><a href="https://www.pkfod.com/people/scot
 t-oling/">Scott Oling</a>\, <a href="https://www.pkfod.com/people/brian-pet
 ersen/">Brian Petersen</a>\, <a href="https://www.linkedin.com/in/jeffrey-s
 haver-3003a576">Jeffery Shaver - </a>Partners and <a href="https://www.link
 edin.com/in/michele-calen-yen-cpa-03808636">Michele Yen - </a>Senior Manage
 r will be presenting at the NYGFOA Advanced Accounting Forum.</p><p><span>T
 his forum builds and expands on the accounting concepts covered in Foundati
 ons Accounting and Financial Reporting and </span><span>will focus on:</spa
 n></p><ul><li><span>Identifying the appropriate fund to use for a given fun
 ction or activity\;</span></li><li><span>Properly applying specialized publ
 ic-sector accounting classifications\;</span></li><li><span>Making proper c
 apital project accounting entries\;</span></li><li><span>Creating basic bud
 getary journal entries and determine when a budgetary comparison is require
 d and at what level of detail\;</span></li><li><span>Increasing awareness o
 f common errors to avoid in the Annual Update Document (AUD)\; and</span></
 li><li><span>Utilizing a Year-End Financial Closing Checklist and Annual Au
 dit Preparation Checklist.</span></li></ul><p><span>Day 1: 3 CPE | GFI Requ
 ired Workshop (Tuesday\, October 26\, 2021 - 9:00 am - 12:00 pm)<br />Day 2
 : 3 CPE | GFI Required Workshop (Thursday\, October 28\, 2021 - 9:00 am - 1
 2:00 pm)<br /><em>Must complete both days to earn GFI Credit.</em></span></
 p>
CATEGORIES:Speaking Engagements
ORGANIZER;CN="Acronin -":MAILTO:acronin@pkfod.com
URL;VALUE=URI:https://www.pkfod.com/events/nygfoa-advanced-accounting-forum
 -fall-2021-day-1/
END:VEVENT
BEGIN:VTIMEZONE
TZID:America/New_York
BEGIN:DAYLIGHT
TZOFFSETFROM:-0500
TZOFFSETTO:-0400
DTSTART:20210314T070000
TZNAME:EDT
END:DAYLIGHT
END:VTIMEZONE
END:VCALENDAR
