BEGIN:VCALENDAR
VERSION:2.0
PRODID:-//PKF O&#039;Connor Davies//NONSGML Events//EN
CALSCALE:GREGORIAN
X-ORIGINAL-URL:https://www.pkfod.com/events/
X-WR-CALDESC:PKF O&#039;Connor Davies - Events
BEGIN:VEVENT
UID:20260210T1752Z-1770745952.94-EO-20947-1@127.0.0.1
STATUS:CONFIRMED
DTSTAMP:20260421T082700Z
CREATED:20260210T162547Z
LAST-MODIFIED:20260331T185540Z
DTSTART;TZID=America/New_York:20260422T183000
DTEND;TZID=America/New_York:20260422T203000
SUMMARY: Ready to Sell Your Practice and Set Your Sights on Retirement?
DESCRIPTION: David Goodman will be speaking at New York County Dental Socie
 ty's Ready to Sell Your Practice and Set Your Sights on Retirement? event o
 n Wednesday\, April 22nd from 6:30 p.m. to 8:30 p.m.
X-ALT-DESC;FMTTYPE=text/html: <p><a href="https://www.pkfod.com/people/davi
 d-j-goodman/">David Goodman</a> will be speaking at <a href="https://www.ny
 cdentalsociety.org/">New York County Dental Society's</a> <a href="https://
 www.nycdentalsociety.org/event-details/2026/04/22/special-events/think--pla
 n--transition--preparing-your-dental-practice-for-sale-(in-person)">Ready t
 o Sell Your Practice and Set Your Sights on Retirement?</a> event on Wednes
 day\, April 22nd from 6:30 p.m. to 8:30 p.m. This focused workshop helps pr
 actitioners plan a practice transition\, covering valuation\, sale and reti
 rement considerations informed by current market conditions.</p><p>Topics t
 o be discussed: </p><ul><li>How to prepare for the selling process</li><li>
 The basic steps of the selling process</li><li>DSO Transaction Trends</li><
 li>Insights into maximizing your practice value</li><li>Understanding the t
 ax implications of selling</li><li>Protecting your assets</li><li>Giving yo
 u the best opportunity to "cash flow" the rest of your life </li></ul><p><a
  href="https://www.pkfod.com/wp-content/uploads/2026/02/Ready-to-Sell-Your-
 Practice-and-Set-Your-Sights-on-Retirement422.pdf">See Flier</a> for full d
 etails.</p>
CATEGORIES:Speaking Engagements
LOCATION:New York County Dental Society
GEO:0.000000;0.000000
ORGANIZER;CN="Connor Durso":MAILTO:cdurso@pkfod.com
URL;VALUE=URI:https://www.pkfod.com/events/ready-to-sell-your-practice-and-
 set-your-sights-on-retirement/
END:VEVENT
BEGIN:VTIMEZONE
TZID:America/New_York
BEGIN:DAYLIGHT
TZOFFSETFROM:-0500
TZOFFSETTO:-0400
DTSTART:20260308T070000
TZNAME:EDT
END:DAYLIGHT
END:VTIMEZONE
END:VCALENDAR
