BEGIN:VCALENDAR
VERSION:2.0
PRODID:-//PKF O&#039;Connor Davies//NONSGML Events//EN
CALSCALE:GREGORIAN
X-ORIGINAL-URL:https://www.pkfod.com/events/
X-WR-CALDESC:PKF O&#039;Connor Davies - Events
BEGIN:VEVENT
UID:20230222T0229Z-1677032970.43-EO-15239-1@127.0.0.1
STATUS:CONFIRMED
DTSTAMP:20260425T082812Z
CREATED:20230221T135629Z
LAST-MODIFIED:20250714T182756Z
DTSTART;TZID=America/New_York:20230621T130000
DTEND;TZID=America/New_York:20230621T190000
SUMMARY: 15th Annual Architectural and Engineering Summit
DESCRIPTION: Join us at our 15th Annual A&E Summit. This year’s afternoon p
 resentation at the Boston Convention & Exhibition Center will be followed b
 y a cocktail reception right next door at the exclusive Signature Pavilion 
 at The Lawn on D. Renowned economist Dr. Anirban Basu will join us as keyno
 te speaker […]
X-ALT-DESC;FMTTYPE=text/html: <p>Join us at our 15th Annual A&E Summit. Thi
 s year's afternoon presentation at the Boston Convention & Exhibition Cente
 r will be followed by a cocktail reception right next door at the exclusive
  Signature Pavilion at The Lawn on D.</p><p>Renowned economist <a href="htt
 ps://protect-us.mimecast.com/s/iCfUC1wpVPhOg2r2hpj9jt?domain=sagepolicy.com
 ">Dr. Anirban Basu</a> will join us as keynote speaker and share his projec
 tions on 2023's economic trajectory among other key insights. </p><p><stron
 g>Space is limited - Register now to ensure your place.</strong></p><p><str
 ong>Wednesday\, June 21\, 2023</strong><br />1:00 - 1:30 p.m. - Registratio
 n<br />1:30 - 5:00 p.m. - Program<br />5:00 - 7:00 p.m. - Reception</p><p><
 strong>Program Topics:</strong></p><ul><li>Outlook for inflation and intere
 st rates</li><li>Trends in banking and financial markets</li><li>Implicatio
 ns for residential and commercial real estate</li><li>CEO leadership panel 
 on industry trends</li><li>A&E study review and insights</li></ul><p><stron
 g>Hosts</strong><br /><a href="https://www.pkfod.com/people/david-m-sulliva
 n-jr/?utm_source=invitation&utm_medium=email&utm_campaign=15th+Annual+A%26E
 +Summit">David M. Sullivan\, Jr.</a>\, CPA\, Partner<br /><a href="https://
 www.pkfod.com/people/joseph-c-ferreira/?utm_source=invitation&utm_medium=em
 ail&utm_campaign=15th+Annual+A%26E+Summit">Joseph C. Ferreira</a>\, CPA\, P
 artner<br /><a href="https://www.pkfod.com/people/linda-mclean/">Linda McLe
 an\,</a> CPA\, Partner<br /><a href="https://www.pkfod.com/people/?person=m
 inson&utm_source=invitation&utm_medium=email&utm_campaign=15th+Annual+A%26E
 +Summit">Stephen E. Minson</a>\, CPA\, Partner<br />Thomas J. Ruggiero\, CP
 A\, Partner<br /><a href="https://www.pkfod.com/people/nicholas-p-tamvaklis
 /?utm_source=invitation&utm_medium=email&utm_campaign=15th+Annual+A%26E+Sum
 mit">Nicholas P. Tamvaklis</a>\, CPA\, Partner</p><p><strong>Leadership Pan
 el Guest Speakers<br /></strong><a href="https://protect-us.mimecast.com/s/
 tHP4C4xvWPs6PMZMuMRUgJ?domain=linkedin.com"></a><a href="https://protect-us
 .mimecast.com/s/Q7KMC68xY4hMkjRju2c-LI?domain=shepleybulfinch.com">Angela W
 atson</a>\, President and CEO\, Shepley Bulfinch<br /><a href="https://prot
 ect-us.mimecast.com/s/AA1PC5ywAXfR85y5tNnrlO?domain=westonandsampson.com">F
 rank Ricciardi</a>\, Chief Executive Officer\, Weston & Sampson<br /><a hre
 f="https://www.rsandh.com/about-us/leadership/">Lisa M. Robert</a>\, PE\, C
 hief Operating Officer\, RS&H<br /><a href="https://protect-us.mimecast.com
 /s/tHP4C4xvWPs6PMZMuMRUgJ?domain=linkedin.com">Michael McArdle</a>\, Chief 
 Development Officer\, VHB</p><p><strong>CPE Credit:</strong><br />1 CPE Cre
 dit in Economics\, 2 CPE Credits in Management Services<br />No prerequisit
 es or advanced planning required<br />Program Level: Basic / Delivery Metho
 d: Group Live</p><p><em>For information regarding complaint and/or program 
 cancellation policies\, please contact the PKF O'Connor Davies CPE Firm Adm
 inistrator at 914.381.8900.</p><p></em>PKF O’Connor Davies is registered wi
 th the National Association of State Boards of Accountancy (NASBA) as a spo
 nsor of continuing professional education on the National Registry of CPE S
 ponsors. State Boards of Accountancy have the final authority on the accept
 ance of individual courses for CPE Credit. Complaints regarding registered 
 sponsors may be submitted to the National Registry of CPE Sponsors through 
 its website: <a href="https://protect-us.mimecast.com/s/t_s-CYEYVNTgDkg7sM6
 Kq6?domain=nasbaregistry.org">www.nasbaregistry.org</a></p>
CATEGORIES:Firm-Hosted Events
LOCATION:Boston Convention &amp\; Exhibition Center
GEO:0.000000;0.000000
ORGANIZER;CN="Acronin -":MAILTO:acronin@pkfod.com
URL;VALUE=URI:https://www.pkfod.com/events/save-the-date-15th-annual-ae-sum
 mit/
END:VEVENT
BEGIN:VTIMEZONE
TZID:America/New_York
BEGIN:DAYLIGHT
TZOFFSETFROM:-0500
TZOFFSETTO:-0400
DTSTART:20230312T070000
TZNAME:EDT
END:DAYLIGHT
END:VTIMEZONE
END:VCALENDAR
