BEGIN:VCALENDAR
VERSION:2.0
PRODID:-//PKF O&#039;Connor Davies//NONSGML Events//EN
CALSCALE:GREGORIAN
X-ORIGINAL-URL:https://www.pkfod.com/events/
X-WR-CALDESC:PKF O&#039;Connor Davies - Events
BEGIN:VEVENT
UID:20260220T0251Z-1771555867.74-EO-20814-1@127.0.0.1
STATUS:CONFIRMED
DTSTAMP:20260421T082206Z
CREATED:20260219T204315Z
LAST-MODIFIED:20260219T204315Z
DTSTART;TZID=America/New_York:20260303T104500
DTEND;TZID=America/New_York:20260303T120000
SUMMARY: TMA Florida Annual Conference
DESCRIPTION: Pat Diercks will be presenting at the TMA Florida 2026 Annual 
 Conference in the Turnaround Case Studies Panel on Tuesday\, March 3rd from
  10:45 a.m. to 12:00 p.m. 
X-ALT-DESC;FMTTYPE=text/html: <p><a href="https://www.pkfod.com/people/pat-
 diercks/">Pat Diercks</a> will be presenting at the <a href="https://my.tur
 naround.org/Events/Calendar-Of-Events/Meeting-Home-Page?meetingid={F3EB6232
 -E1AE-F011-BBD3-0022482A52EC}">TMA Florida 2026 Annual Conference</a> in th
 e <strong>Turnaround Case Studies Panel</strong> on Tuesday\, March 3rd fro
 m 10:45 a.m. to 12:00 p.m. </p><p>View the full agenda <a href="https://my.
 turnaround.org/Events/Calendar-Of-Events/Meeting-Home-Page?meetingid=%7BF3E
 B6232-E1AE-F011-BBD3-0022482A52EC%7D">here</a>.</p>
CATEGORIES:Speaking Engagements
LOCATION:Hyatt Regency Grand Cypress
GEO:0.000000;0.000000
ORGANIZER;CN="Connor Durso":MAILTO:cdurso@pkfod.com
URL;VALUE=URI:https://www.pkfod.com/events/tma-florida-annual-conference/
END:VEVENT
BEGIN:VTIMEZONE
TZID:America/New_York
BEGIN:STANDARD
TZOFFSETFROM:-0400
TZOFFSETTO:-0500
DTSTART:20251102T060000
TZNAME:EST
END:STANDARD
END:VTIMEZONE
END:VCALENDAR
