BEGIN:VCALENDAR
VERSION:2.0
PRODID:-//PKF O&#039;Connor Davies//NONSGML Events//EN
CALSCALE:GREGORIAN
X-ORIGINAL-URL:https://www.pkfod.com/events/
X-WR-CALDESC:PKF O&#039;Connor Davies - Events
BEGIN:VEVENT
UID:20250509T0422Z-1746764550.61-EO-19239-1@127.0.0.1
STATUS:CONFIRMED
DTSTAMP:20260425T064237Z
CREATED:20250508T202642Z
LAST-MODIFIED:20250508T202642Z
DTSTART;TZID=America/New_York:20250515T180000
DTEND;TZID=America/New_York:20250515T210000
SUMMARY: What It Takes to Grow Your Practice: 3 Guaranteed Ways!
DESCRIPTION: David Goodman will present “The Benefits of working with a Den
 tal CPA” during the lecture “What It Takes to Grow Your Practice: 3 Guarant
 eed Ways!” on Thursday\, May 15th at Empire Steak House West in New York Ci
 ty.  Hosted by Central Park Oral Surgery‘s Study […]
X-ALT-DESC;FMTTYPE=text/html: <p><a href="https://www.pkfod.com/people/davi
 d-j-goodman/">David Goodman</a> will present "The Benefits of working with 
 a Dental CPA" during the lecture <a href="https://www.pkfod.com/wp-content/
 uploads/2025/05/5-15-2025-Central-Park-Oral-Surgery-Study-Club.pdf">"What I
 t Takes to Grow Your Practice: 3 Guaranteed Ways!"</a> on Thursday\, May 15
 th at Empire Steak House West in New York City. </p><p>Hosted by <a href="h
 ttps://centralparkoralsurgery.nyc/">Central Park Oral Surgery</a>'s Study C
 lub\, this in-depth session is designed for dental professionals looking to
  strengthen and grow their practices through proven financial and operation
 al strategies. Join David for a valuable conversation on how working with a
  specialized CPA can make a measurable difference in your practice’s long-t
 erm success.</p><p data-start="195" data-end="389" class="">
CATEGORIES:Speaking Engagements
LOCATION:Empire Steak House West
GEO:0.000000;0.000000
ORGANIZER;CN="Emily Nando":MAILTO:enando@pkfod.com
URL;VALUE=URI:https://www.pkfod.com/events/what-it-takes-to-grow-your-pract
 ice-3-guaranteed-ways/
END:VEVENT
BEGIN:VTIMEZONE
TZID:America/New_York
BEGIN:DAYLIGHT
TZOFFSETFROM:-0500
TZOFFSETTO:-0400
DTSTART:20250309T070000
TZNAME:EDT
END:DAYLIGHT
END:VTIMEZONE
END:VCALENDAR
