BEGIN:VCALENDAR
VERSION:2.0
PRODID:-//PKF O&#039;Connor Davies//NONSGML Events//EN
CALSCALE:GREGORIAN
X-ORIGINAL-URL:https://www.pkfod.com/events/
X-WR-CALDESC:PKF O&#039;Connor Davies - Events
BEGIN:VEVENT
UID:20220921T0445Z-1663735510.61-EO-13708-1@127.0.0.1
STATUS:CONFIRMED
DTSTAMP:20260421T064035Z
CREATED:20220921T005537Z
LAST-MODIFIED:20230417T153913Z
DTSTART;TZID=America/New_York:20220929T090000
DTEND;TZID=America/New_York:20220929T103000
SUMMARY: Zoom Webinar – Executive Roundtable Group
DESCRIPTION: Join John Shillingsford\, Partner and Louis F. LiBrandi\, Prin
 cipal with PKF O’Connor Davies for an Executive Roundtable Group. Click her
 e for complete agenda. Click here to register for Zoom Webinar. Topics: Int
 roductory Welcome – Alan Pfeffer\, Sr. Vice President – Sentinel Benefits &
  Financial Group Employment Update – Kimberly Malerba\, […]
X-ALT-DESC;FMTTYPE=text/html: <p>Join <a href="https://www.pkfod.com/people
 /john-shillingsford/">John Shillingsford</a>\, Partner and <a href="https:/
 /www.pkfod.com/people/louis-librandi/">Louis F. LiBrandi</a>\, Principal wi
 th PKF O'Connor Davies for an <strong>Executive Roundtable Group</strong>.<
 /p><p><a href="https://www.pkfod.com/wp-content/uploads/2022/09/Executive-R
 oundtable-Group-Agenda-9-29-22.pdf">Click here</a> for complete agenda.<br 
 /><a href="https://sentinelgroup.zoom.us/webinar/register/WN_3y8TuJYhSK-Ttp
 6j-6cmaA">Click here</a> to register for Zoom Webinar.</p><p><strong>Topics
 </strong>:</p><ul><li>Introductory Welcome - Alan Pfeffer\, Sr. Vice Presid
 ent - Sentinel Benefits & Financial Group</li><li>Employment Update - Kimbe
 rly Malerba\, Partner - Ruskin Moscou Faltischek P.C.</li><li>Findings on I
 RS Examinations of Retirement Plans - Lou LiBrandi\, Principal - PKF O'Conn
 or Davies</li><li>ERISA Plan Governance - John Shillingsford\, Partner - PK
 F O'Connor Davies</li><li>Combining Health & Wealth to Better Your Workforc
 e and Create Efficiencies - Alan Pfeffer\, SVP and Gregory Puig\, VP\, Bene
 fit Consulting Services - Sentinel Benefits & Financial Group</li><li>Closi
 ng Comments and Q&A - Alan Pfeffer\, Sr. Vice President - Sentinel Benefits
  & Financial Group</li></ul>
CATEGORIES:Speaking Engagements
ORGANIZER;CN="Acronin -":MAILTO:acronin@pkfod.com
URL;VALUE=URI:https://www.pkfod.com/events/zoom-webinar-executive-roundtabl
 e-group/
END:VEVENT
BEGIN:VTIMEZONE
TZID:America/New_York
BEGIN:DAYLIGHT
TZOFFSETFROM:-0500
TZOFFSETTO:-0400
DTSTART:20220313T070000
TZNAME:EDT
END:DAYLIGHT
END:VTIMEZONE
END:VCALENDAR
